BEGIN:VCALENDAR
VERSION:2.0
PRODID:-//Sabre//Sabre VObject 3.5.3//EN
CALSCALE:GREGORIAN
BEGIN:VTIMEZONE
TZID:Europe/London
BEGIN:STANDARD
TZNAME:GMT
DTSTART:19701025T020000
RRULE:FREQ=YEARLY;BYMONTH=10;BYDAY=-1SU
TZOFFSETFROM:+0100
TZOFFSETTO:+0000
END:STANDARD
BEGIN:DAYLIGHT
TZNAME:BST
DTSTART:19700329T010000
RRULE:FREQ=YEARLY;BYMONTH=3;BYDAY=-1SU
TZOFFSETFROM:+0000
TZOFFSETTO:+0100
END:DAYLIGHT
END:VTIMEZONE
BEGIN:VEVENT
UID:event_206105@yorkshirewinds.co.uk
DTSTART;TZID=Europe/London:20260425T180000
DTEND;TZID=Europe/London:20260425T200000
SUMMARY:A Celebration of 30 Years
DESCRIPTION:COVID put paid to our 25th anniversary festivities so now we&rs
 quo\;re very ready to celebrate! We&rsquo\;ll be looking back over the pas
 t 30 years and playing some of our favourite repertoire as chosen by membe
 rs of the band.\n\nPlease note the earlier start time.\n\nThere will be a 
 short interval during the concert\, and drinks and nibbles will be served 
 afterwards.&nbsp\;\n\nPay whatever you decide is appropriate\; post-concer
 t refreshments are included in whatever you decide to pay.&nbsp\;\n\nJoin 
 us in raising a glass in recognition of 30 successful years and wish us we
 ll for the next 30&nbsp\;🎵🎶🍷🎉\n\nFor full event details\, visi
 t: https://www.yorkshirewinds.co.uk/celebrate30
LOCATION:St Edmund's Church\, Lidgett Park Road\, Roundhay\, Leeds \, LS8 1
 JN
URL:https://www.yorkshirewinds.co.uk/celebrate30
END:VEVENT
END:VCALENDAR
