BEGIN:VCALENDAR
VERSION:2.0
PRODID:-//Sabre//Sabre VObject 3.5.3//EN
CALSCALE:GREGORIAN
BEGIN:VTIMEZONE
TZID:Europe/London
BEGIN:STANDARD
TZNAME:GMT
DTSTART:19701025T020000
RRULE:FREQ=YEARLY;BYMONTH=10;BYDAY=-1SU
TZOFFSETFROM:+0100
TZOFFSETTO:+0000
END:STANDARD
BEGIN:DAYLIGHT
TZNAME:BST
DTSTART:19700329T010000
RRULE:FREQ=YEARLY;BYMONTH=3;BYDAY=-1SU
TZOFFSETFROM:+0000
TZOFFSETTO:+0100
END:DAYLIGHT
END:VTIMEZONE
BEGIN:VEVENT
UID:event_202236@yorkshirewinds.co.uk
DTSTART;TZID=Europe/London:20260613T190000
DTEND;TZID=Europe/London:20260613T210000
SUMMARY:Music for a Summer's Evening
DESCRIPTION:The Yorkshire Wind Orchestra will appear as the guest ensemble 
 in the Yorkshire Philharmonic Choir&rsquo\;s summer concert. This collabor
 ation brings together two of the region&rsquo\;s leading musical ensembles
  in a programme that will explore seasonal classics and a range of works i
 nfluenced by folk traditions. This special event promises an evening of vi
 brant music-making\, celebrating both the diversity of folk-inspired reper
 toire and the strength of Yorkshire&rsquo\;s musical community.&nbsp\;&nbs
 p\;\n\n\nFor full event details\, visit: https://www.yorkshirewinds.co.uk/
 dbpage.php?pg=view&dbase=events&id=202236
LOCATION:Wakefield Cathedral\, Northgate\, Wakefield\, WF1 1HG
URL:https://www.yorkshirewinds.co.uk/dbpage.php?pg=view&dbase=events&id=202
 236
END:VEVENT
END:VCALENDAR
